BEGIN:VCALENDAR
VERSION:2.0
PRODID:-//ChamberMaster//Event Calendar 2.0//EN
METHOD:PUBLISH
X-PUBLISHED-TTL:P1H
REFRESH-INTERVAL:P1H
CALSCALE:GREGORIAN
BEGIN:VTIMEZONE
TZID:America/New_York
BEGIN:DAYLIGHT
RRULE:FREQ=YEARLY;BYMONTH=3;BYDAY=2SU
DTSTART:20070101T000000
TZOFFSETFROM:-0500
TZOFFSETTO:-0400
TZNAME:Eastern Daylight Time
END:DAYLIGHT
BEGIN:STANDARD
RRULE:FREQ=YEARLY;BYMONTH=11;BYDAY=1SU
DTSTART:20070101T000000
TZOFFSETFROM:-0400
TZOFFSETTO:-0500
TZNAME:Eastern Standard Time
END:STANDARD
END:VTIMEZONE
BEGIN:VEVENT
DTSTART;TZID=America/New_York:20260604T110000
DTEND;TZID=America/New_York:20260604T130000
X-MICROSOFT-CDO-ALLDAYEVENT:FALSE
SUMMARY:5th Annual Summer Picnic
DESCRIPTION:🎉 5th Annual Summer Picnic 🎉 Get ready for some summertime fun! Join us for the 5th Annual Summer Picnic at the Sevierville Chamber of Commerce on Thursday\, June 4th from 11:00 AM to 1:00 PM! We're throwing a party under the big tent right in front of the Chamber office at 110 Gary Wade Blvd\, Sevierville\, TN 37862 and you're invited! Come hungry and ready to groove! We'll have delicious food\, refreshing drinks\, and a live DJ spinning your favorite tunes. It's the perfect mid-day break to relax\, connect\, and soak up some sunshine with fellow Chamber members and friends. 🌭🎶🥤 Good vibes. Great people. Don't miss it!
X-ALT-DESC;FMTTYPE=text/html:<!DOCTYPE html><html><head><title></title></head><body aria-disabled="false"><p style="text-align: center\;">🎉 5<strong fr-original-style="" style="font-weight: 700\;">th Annual Summer Picnic&nbsp\;</strong>🎉&nbsp\;</p><p style="text-align: center\;">Get ready for some summertime fun!&nbsp\;</p><p style="text-align: center\;">Join us for the 5th Annual Summer Picnic at the Sevierville Chamber of Commerce on Thursday\, June 4th from 11:00 AM to 1:00 PM!&nbsp\;</p><p style="text-align: center\;">We&rsquo\;re throwing a party under the big tent right in front of the Chamber office at 110 Gary Wade Blvd\, Sevierville\, TN 37862&mdash\;and you&rsquo\;re invited! Come hungry and ready to groove! We&rsquo\;ll have delicious food\, refreshing drinks\, and a live DJ spinning your favorite tunes. It&rsquo\;s the perfect mid-day break to relax\, connect\, and soak up some sunshine with fellow Chamber members and friends. 🌭🎶🥤&nbsp\;</p><p style="text-align: center\;">Good vibes. Great people. Don&rsquo\;t miss it!</p></body></html>
LOCATION:110 Gary Wade Blvd Sevierville TN 37862
UID:e.3835.1402535
SEQUENCE:3
DTSTAMP:20260425T012233Z
URL:https://my.scoc.org/chamber-events/Details/5th-annual-summer-picnic-1657338?sourceTypeId=Hub
END:VEVENT
END:VCALENDAR
